BEGIN:VCALENDAR
VERSION:2.0
PRODID:-//Geleia Total - ECPv6.15.20//NONSGML v1.0//EN
CALSCALE:GREGORIAN
METHOD:PUBLISH
X-WR-CALNAME:Geleia Total
X-ORIGINAL-URL:https://www.geleiatotal.com.br
X-WR-CALDESC:Eventos para Geleia Total
REFRESH-INTERVAL;VALUE=DURATION:PT1H
X-Robots-Tag:noindex
X-PUBLISHED-TTL:PT1H
BEGIN:VTIMEZONE
TZID:America/Fortaleza
BEGIN:STANDARD
TZOFFSETFROM:-0300
TZOFFSETTO:-0300
TZNAME:-03
DTSTART:20170101T000000
END:STANDARD
END:VTIMEZONE
BEGIN:VEVENT
DTSTART;TZID=America/Fortaleza:20180902T170000
DTEND;TZID=America/Fortaleza:20180902T170000
DTSTAMP:20260425T101030
CREATED:20180901T200654Z
LAST-MODIFIED:20180901T200921Z
UID:10789-1535907600-1535907600@www.geleiatotal.com.br
SUMMARY:Pinóquio e Gepeto ao Sabor do Vento
DESCRIPTION:Neste domingo o Theatro 4 de Setembro está com uma programação  infanto juvenil na programasão dos 124 anos do Theatro. Tendo como espetáculo “Pinóquio e Gepeto ao Sabor do Vento” do Coletivo Piauhy Estúdio das Artes\, texto adaptado e direção: Adriano Abreu. \nTheatro 4 de Setembro\,  124 anos\, “Criando o século de Memórias do Teatro”. Ano Chiquinha Lira. \nEntrada 1kg de alimento não perecível \n  \n 
URL:https://www.geleiatotal.com.br/evento/pinoquio-e-gepeto-ao-sabor-do-vento/
LOCATION:Theatro 4 de Setembro
CATEGORIES:Artes Visuais,Teatro,Teresina
ATTACH;FMTTYPE=image/jpeg:https://www.geleiatotal.com.br/wp-content/uploads/2018/09/FB_IMG_1535791610823.jpg
END:VEVENT
BEGIN:VEVENT
DTSTART;TZID=America/Fortaleza:20180903T100000
DTEND;TZID=America/Fortaleza:20180903T220000
DTSTAMP:20260425T101030
CREATED:20180903T112412Z
LAST-MODIFIED:20180903T112412Z
UID:10864-1535968800-1536012000@www.geleiatotal.com.br
SUMMARY:Programação de 124 anos do Theatro 4 de Setembro
DESCRIPTION:A programação de aniversário do Theatro 4 de Setembro desta seguda começa  às 10hrs\, com uma ação cultural para as escolas\, trazendo humor infantil\, no Theatro 4 de Setembro. \nÀs 18Hrs\,  na praça Pedro II\, terá a apresentação do espetáculo “Duplo Molierê”. Na Galeria Nonato Oliveira\, às 19hrs ocorrerá um baile com a banda 16 de Agosto e convidados. E novamente no Theatro 4 de Setembro\, às 20hrs\, terá muito risos com o show de humor  “João Cláudio por ele mesmo”. Não perca está programação. A entrada é 1kg de alimento.
URL:https://www.geleiatotal.com.br/evento/programacao-de-124-anos-do-theatro-4-de-setembro/
LOCATION:Theatro 4 de Setembro
CATEGORIES:Artes Visuais,Música,Teatro,Teresina
ATTACH;FMTTYPE=image/jpeg:https://www.geleiatotal.com.br/wp-content/uploads/2018/09/Screenshot_2018-09-03-07-49-00-1.jpg
END:VEVENT
BEGIN:VEVENT
DTSTART;TZID=America/Fortaleza:20180904T180000
DTEND;TZID=America/Fortaleza:20180904T180000
DTSTAMP:20260425T101030
CREATED:20180903T195139Z
LAST-MODIFIED:20180903T195139Z
UID:10900-1536084000-1536084000@www.geleiatotal.com.br
SUMMARY:Programação de aniversário do Theatro 4 de Setembro
DESCRIPTION:Seguindo o quinto dia da programação do aniversário do Theatro 4 de Setembro\, teremos às 18hrs\, na praça Pedro II o espetáculo “Nego Chico e Catirina”. E às 18h40\, acontecerá Literatura Dramática no Café literário  “Genu Moraes” com Ato-Solo de dança de rua e também o lançamento do Livro “Teatro”\, uma coletânea de obras dramáticas do Júlio Romão da Silva.
URL:https://www.geleiatotal.com.br/evento/programacao-de-aniversario-do-theatro-4-de-setembro/
LOCATION:Theatro 4 de Setembro
CATEGORIES:Dança,Literatura,Teatro,Teresina
ATTACH;FMTTYPE=image/jpeg:https://www.geleiatotal.com.br/wp-content/uploads/2018/09/FB_IMG_1535974323216.jpg
END:VEVENT
BEGIN:VEVENT
DTSTART;TZID=America/Fortaleza:20180904T180000
DTEND;TZID=America/Fortaleza:20180904T180000
DTSTAMP:20260425T101030
CREATED:20180904T200826Z
LAST-MODIFIED:20180907T171144Z
UID:10957-1536084000-1536084000@www.geleiatotal.com.br
SUMMARY:Programação de aniversário de 124 anos do Theatro 4 de Setembro
DESCRIPTION:Theatro 4 de Setembro 124 Anos- Ano Chiquinha Lira\, apresenta hoje\, no quinto dia da programação de aniversário:  40 Anos Isis Baião (A Lei dos homens ) às 19h30. Espetáculo de dança “A Luzia” com Luzia Amélia\, às 20hrs no Theatro 4 de SetembroSino mesmo horario no Espaço Cultural Osório Jr terá a banda FULLREGGAE. Não perca esta programação cheia de cultura pra você.
URL:https://www.geleiatotal.com.br/evento/programacao-de-aniversario-de-124-anos-do-theateo-4-de-setembro/
LOCATION:Theatro 4 de Setembro
CATEGORIES:Dança,Espetáculo de Dança,Música,Teatro,Teresina
ATTACH;FMTTYPE=image/jpeg:https://www.geleiatotal.com.br/wp-content/uploads/2018/09/FB_IMG_1536090386777.jpg
END:VEVENT
BEGIN:VEVENT
DTSTART;TZID=America/Fortaleza:20180905T180000
DTEND;TZID=America/Fortaleza:20180905T180000
DTSTAMP:20260425T101030
CREATED:20180905T185239Z
LAST-MODIFIED:20180905T185239Z
UID:11023-1536170400-1536170400@www.geleiatotal.com.br
SUMMARY:Programação de aniversário de 124 anos do Theatro 4 de Setembro
DESCRIPTION:Hoje\, dia 5 de Setembro dando continuidade a programação de 124 anos do Theatro 4 de Setembro\, teremos às 18hrs\, Encontros e Diálogos Acadêmicos\, uma participação do IV Colóquio Internacional de Literatura e Gênero. Às 19hrs\, teremos ação cultural com a banda Monamour pelo projeto Boca da noite\, no Clube dos diarios. E às 20hrs  na Galeria de Arte Nonato Oliveira o som da banda “As Fulô do Sertão. Não perca essa programação.
URL:https://www.geleiatotal.com.br/evento/programacao-de-aniversario-de-124-anos-do-theatro-4-de-setembro/
LOCATION:Theatro 4 de Setembro
CATEGORIES:Cursos, palestras e afins,Música,Teatro,Timon
ATTACH;FMTTYPE=image/jpeg:https://www.geleiatotal.com.br/wp-content/uploads/2018/09/FB_IMG_1535974338406.jpg
END:VEVENT
BEGIN:VEVENT
DTSTART;TZID=America/Fortaleza:20180907T190000
DTEND;TZID=America/Fortaleza:20180907T190000
DTSTAMP:20260425T101030
CREATED:20180905T193039Z
LAST-MODIFIED:20180905T194336Z
UID:11031-1536346800-1536346800@www.geleiatotal.com.br
SUMMARY:Espetáculo "A Bacia de Proust"
DESCRIPTION:O espetáculo  “A Bacia de Proust” estará no palco do Teatro do Bolso Dolores Pereira\, no dia 7 de setembro. Nas palavras do diretor “Encenar um texto é sempre uma expectativa pelas possibilidades\, por portas abertas… Em “A Bacia de Proust” texto de Roberto Muniz Dias\, quebrei com muitas delas\, na procura do mínimo\, o menos\, na intenção de atingir o efeito maior. Me satisfiz com o detalhe\, com o acabamento das cenas no desenho das curvas do corpo. Corpo\, curva\, cena\, ação. . . E o rebento insurge em linhas sombras e volumes. O espaço é invadido pela ação cênica\, desdobramento de um ser  que aos poucos se revela em tensões\, músculos\, texturas e vida. O trabalho do ator em A Bacia “cena” é super valorizado\, já que é a partir deste\, que todos os outros elementos ganham vida\, desdobram – se em confirmar o universo particular do personagem Pierre\, construído de imagens  do passado\, reminiscências\, letargias e traumas. A relação espacial do ator com a cena é colocada em cheque à medida que a narrativa evolui para modificá –  la mais à frente também com relação ao espectador. Tempo ritual\, suspensão do naturalismo e declínio das hierarquias tradicionais do “grande” teatro erudito clássico\, são intenções de sobra para se montar uma peça que fale de forma direta\, visceral\, sobre cruezas sórdidas da face humana”.
URL:https://www.geleiatotal.com.br/evento/espetaculo-a-bacia-de-proust/
LOCATION:Teatro de Bolso Dolores Ferreira\, Bairro Morada do Sol\, Teresina
CATEGORIES:Teatro,Teresina
ATTACH;FMTTYPE=image/jpeg:https://www.geleiatotal.com.br/wp-content/uploads/2018/09/IMG-20180903-WA0108.jpg
END:VEVENT
BEGIN:VEVENT
DTSTART;TZID=America/Fortaleza:20180908T193000
DTEND;TZID=America/Fortaleza:20180908T193000
DTSTAMP:20260425T101030
CREATED:20180905T194034Z
LAST-MODIFIED:20180905T194034Z
UID:11043-1536435000-1536435000@www.geleiatotal.com.br
SUMMARY:Espetáculo  “A Bacia de Proust”
DESCRIPTION:O espetáculo  “A Bacia de Proust” estará no palco do Teatro do Bolso Dolores Pereira\, no dia 8 de setembro. Nas palavras do diretor “Encenar um texto é sempre uma expectativa pelas possibilidades\, por portas abertas… Em “A Bacia de Proust” texto de Roberto Muniz Dias\, quebrei com muitas delas\, na procura do mínimo\, o menos\, na intenção de atingir o efeito maior. Me satisfiz com o detalhe\, com o acabamento das cenas no desenho das curvas do corpo. Corpo\, curva\, cena\, ação. . . E o rebento insurge em linhas sombras e volumes. O espaço é invadido pela ação cênica\, desdobramento de um ser  que aos poucos se revela em tensões\, músculos\, texturas e vida. O trabalho do ator em A Bacia “cena” é super valorizado\, já que é a partir deste\, que todos os outros elementos ganham vida\, desdobram – se em confirmar o universo particular do personagem Pierre\, construído de imagens  do passado\, reminiscências\, letargias e traumas. A relação espacial do ator com a cena é colocada em cheque à medida que a narrativa evolui para modificá –  la mais à frente também com relação ao espectador. Tempo ritual\, suspensão do naturalismo e declínio das hierarquias tradicionais do “grande” teatro erudito clássico\, são intenções de sobra para se montar uma peça que fale de forma direta\, visceral\, sobre cruezas sórdidas da face humana”.
URL:https://www.geleiatotal.com.br/evento/espetaculo-a-bacia-de-proust-2/
LOCATION:Teatro de Bolso Dolores Ferreira\, Bairro Morada do Sol\, Teresina
CATEGORIES:Teatro,Teresina
ATTACH;FMTTYPE=image/jpeg:https://www.geleiatotal.com.br/wp-content/uploads/2018/09/IMG-20180903-WA0108.jpg
END:VEVENT
END:VCALENDAR