BEGIN:VCALENDAR
VERSION:2.0
PRODID:-//Geleia Total - ECPv6.15.20//NONSGML v1.0//EN
CALSCALE:GREGORIAN
METHOD:PUBLISH
X-WR-CALNAME:Geleia Total
X-ORIGINAL-URL:https://www.geleiatotal.com.br
X-WR-CALDESC:Eventos para Geleia Total
REFRESH-INTERVAL;VALUE=DURATION:PT1H
X-Robots-Tag:noindex
X-PUBLISHED-TTL:PT1H
BEGIN:VTIMEZONE
TZID:America/Fortaleza
BEGIN:STANDARD
TZOFFSETFROM:-0300
TZOFFSETTO:-0300
TZNAME:-03
DTSTART:20180101T000000
END:STANDARD
END:VTIMEZONE
BEGIN:VEVENT
DTSTART;TZID=America/Fortaleza:20190717T193000
DTEND;TZID=America/Fortaleza:20190717T193000
DTSTAMP:20260424T193746
CREATED:20190717T180542Z
LAST-MODIFIED:20190717T184018Z
UID:19178-1563391800-1563391800@www.geleiatotal.com.br
SUMMARY:Palco Giratório: "Chica\, Fulô de Mandacaru"
DESCRIPTION:Neste mês de julho\, o Palco Giratório circula no Piauí com os espetáculos “Chica\, Fulô de Mandacaru” e “A mulher do fim do mundo\, da Cia. Casa Circo (AP)\, com apresentações em Floriano\, Teresina e Parnaíba. E em Teresina o espectáculo será ” Chica\, Fulô de Mandacaru”. A entrada será 1kg de alimento não perecível. Não fique de fora dessa!!!
URL:https://www.geleiatotal.com.br/evento/palco-giratorio-a-mulher-do-fim-do-mundo/
LOCATION:Theatro 4 de Setembro
CATEGORIES:Espetáculo de Dança,Teatro
ATTACH;FMTTYPE=image/jpeg:https://www.geleiatotal.com.br/wp-content/uploads/2019/07/20190717_153947.jpg
END:VEVENT
BEGIN:VEVENT
DTSTART;TZID=America/Fortaleza:20190719T190000
DTEND;TZID=America/Fortaleza:20190719T190000
DTSTAMP:20260424T193746
CREATED:20190717T182532Z
LAST-MODIFIED:20190717T183611Z
UID:19183-1563562800-1563562800@www.geleiatotal.com.br
SUMMARY:Palco Giratório: "A mulher do fim do mundo"
DESCRIPTION:Neste mês de julho\, o Palco Giratório circula no Piauí com os espetáculos “Chica\, Fulô de Mandacaru” e “A mulher do fim do mundo\, da Cia. Casa Circo (AP)\, com apresentações em Floriano\, Teresina e Parnaíba. E em Parnaíba  o espectáculo será ”A mulher do fim do mundo”. A entrada será 1kg de alimento não perecível. Não fique de fora dessa!!!
URL:https://www.geleiatotal.com.br/evento/palco-giratorio-chica-fulo-de-mandacaru/
LOCATION:SESC AV\, Parnaíba\, Piauí
CATEGORIES:Dança,Espetáculo de Dança,Teatro
ATTACH;FMTTYPE=image/jpeg:https://www.geleiatotal.com.br/wp-content/uploads/2019/07/FB_IMG_1563386254780.jpg
END:VEVENT
BEGIN:VEVENT
DTSTART;TZID=America/Fortaleza:20190719T210000
DTEND;TZID=America/Fortaleza:20190719T210000
DTSTAMP:20260424T193746
CREATED:20190719T190550Z
LAST-MODIFIED:20190719T190550Z
UID:19337-1563570000-1563570000@www.geleiatotal.com.br
SUMMARY:Yuri
DESCRIPTION:Hoje\, 19 de julho\, no Camarão do Elias terá o melhor da música com Yuri\, a partir das 21hrs. Não fique de fora dessa!!!!
URL:https://www.geleiatotal.com.br/evento/yuri-6/
LOCATION:Camarão do Elias\, Av. Pedro Almeida\, 457 - São Cristóvão\, Teresina - PI\, 64052-280\, Teresina\, Piauí\, 64052-280\, Brasil
CATEGORIES:Culinária,Música,Teatro
ATTACH;FMTTYPE=image/jpeg:https://www.geleiatotal.com.br/wp-content/uploads/2019/07/IMG-20190719-WA0065.jpg
END:VEVENT
BEGIN:VEVENT
DTSTART;TZID=America/Fortaleza:20190720T200000
DTEND;TZID=America/Fortaleza:20190720T200000
DTSTAMP:20260424T193746
CREATED:20190715T145541Z
LAST-MODIFIED:20190715T145657Z
UID:19009-1563652800-1563652800@www.geleiatotal.com.br
SUMMARY:TheVejo no Centro
DESCRIPTION:Dia 20 de julho acontece a  2° edição do The Vejo no Centro\, o evento trás uma programação com shows\, city tour em prédios históricos e exposições pra toda a família. Entrada 1kg de alimento não perecível. Não fique de fora dessa!!!
URL:https://www.geleiatotal.com.br/evento/thevejo-no-centro/
LOCATION:Theatro 4 de Setembro
CATEGORIES:Teatro,Teresina
ATTACH;FMTTYPE=image/jpeg:https://www.geleiatotal.com.br/wp-content/uploads/2019/07/FB_IMG_1563202346118.jpg
END:VEVENT
END:VCALENDAR