BEGIN:VCALENDAR
VERSION:2.0
PRODID:-//Geleia Total - ECPv6.15.20//NONSGML v1.0//EN
CALSCALE:GREGORIAN
METHOD:PUBLISH
X-WR-CALNAME:Geleia Total
X-ORIGINAL-URL:https://www.geleiatotal.com.br
X-WR-CALDESC:Eventos para Geleia Total
REFRESH-INTERVAL;VALUE=DURATION:PT1H
X-Robots-Tag:noindex
X-PUBLISHED-TTL:PT1H
BEGIN:VTIMEZONE
TZID:America/Fortaleza
BEGIN:STANDARD
TZOFFSETFROM:-0300
TZOFFSETTO:-0300
TZNAME:-03
DTSTART:20180101T000000
END:STANDARD
END:VTIMEZONE
BEGIN:VEVENT
DTSTART;TZID=America/Fortaleza:20191106T190000
DTEND;TZID=America/Fortaleza:20191106T200000
DTSTAMP:20260424T140128
CREATED:20191031T225342Z
LAST-MODIFIED:20191031T225342Z
UID:23471-1573066800-1573070400@www.geleiatotal.com.br
SUMMARY:Coletivo Piauhy estreia novo espetáculo “Sonatas de Amores\, Não”
DESCRIPTION:Após os espetáculos de grande sucesso “FOGO”\, “Exercício sobre Medeia” e “Pinóquio e Gepeto ao Sabor do Vento\, o Coletivo Piauhy Estúdio das Artes\, sob direção de Adriano Abreu\, estreia novo espetáculo nesta quarta\, 6 de novembro\, às 19h no Teatro João Paulo II. Um espetáculo único\, como cada espetáculo do Coletivo Piauhy\, mas é uma continuidade da pesquisa de como a estrutura familiar e\, as relações construídas a partir dela\, podem ser decisivas na construção do ser humano. Com texto de Eraldo Maia\, “Sonatas de Amores\, Não” tem no elenco Állex Cruz\, Carlos Aguiar\, Silmara Silva\, Érica Anunciação e Deusa Sofia\, e tem classificação indicativa de 16 anos. \n“Sonatas de Amores\, Não” relata a relação de Zélia e seu filho Pedro\, a partir de uma ótica multidimensional de tempo\, onde o passado e presente interagem\, possibilitando aos espectadores uma viagem através dessa história conflituosa onde o signo da intolerância e desamor estão sempre presentes. Um filho gay reencontra sua mãe 25 anos depois já com avançado estado de Alzheimer\, nesse clima bastante turbulento as memórias\, desejos e frustrações desses personagens se digladiam tanto no presente\, como no passado\, através de suas memórias materializadas através da encenação. \n \nPara Adriano Abreu\, “A justiça só será realmente justa\, quando consegue instituir um senso superior. O fato é que na história de Zélia\, representada pelas atrizes Silmara Silva e Érica Anunciação e seu filho Pedro\, representado pelos atores Állex Cruz e Carlos Aguiar\, que constitui essa “Sonatas de Amores\, Não”\, um senso superior de justiça\, nem de longe\, pôde ser instituído. Enfim\, o teatro serve justamente para que possamos\, através da reflexão\, construirmos uma sociedade menos destrutiva. Acreditamos nessa nisso\, apesar desses tempos distópicos.” \nSeria “Sonatas de Amores\, Não” um apelo contra a intolerância? Uma canção ao que poderia ter sido afetuoso\, mas as circunstâncias se encarregaram de demolir? Um poema que celebra a incompreensão? Ou\, quem sabe\, apenas o retrato de uma relação sombria nessa sociedade distópica? Dia 6 de novembro\, às 19h\, no Teatro João Paulo II (o teatro do Dirceu)\, estes e outros questionamentos serão vividos e sentidos. \n  \nServiço \nEspetáculo “Sonatas de Amores\, Não” \nClassificação Indicativa: 16 anos \nDia: 06/11/2019 (quarta-feira) \nHorário: 19h \nLocal: Teatro João Paulo II – Av. Joaquim Nelson\, 1885 \nIngressos: R$ 20 (inteira) / R$ 10 (meia) \nPontos de Venda: \n\nToccata – Rua Angélica\, 920⠀\nBanca do Joel – Praça Pedro II\nPor transferência bancária: 86 99802.6952 (http://bit.ly/WhatsAppGeleiaTotal)⠀\nNa bilheteria do teatro\, no dia da peça\nPelo Sympla – bit.ly/sonatas6nov\n\n\nFicha Técnica \nEspetáculo: Sonatas de Amores\, Não \nTexto: Eraldo Maia \nDireção: Adriano Abreu \nAtuação: Állex Cruz. Carlos Aguiar\, Deusa Sofia\, Érica Anunciação e Silmara Silva \nIluminação e cenografia: Adriano Abreu \nFigurino e Maquiagem: Silmara Silva \nPreparação vocal: Edvan Alves \nArte do Cajon: Avelar Amorim \nProdução: Geleia Total \nPatrocínio: Armazém Paraíba através do SIEC \nApoio Técnico: Francisco Borges\, Solange Aragão e Arnaldo Pacovan
URL:https://www.geleiatotal.com.br/evento/coletivo-piauhy-estreia-novo-espetaculo-sonatas-de-amores-nao/
LOCATION:Teatro João Paulo II\, AV\, Joaquim Nelson\, Teresina\, Piauí
CATEGORIES:Teatro,Teresina
ATTACH;FMTTYPE=image/jpeg:https://www.geleiatotal.com.br/wp-content/uploads/2019/10/Sonatas-de-Amores-Não-Foto-1-scaled.jpg
ORGANIZER;CN="Geleia Total":MAILTO:geleiatotal@gmail.com
END:VEVENT
BEGIN:VEVENT
DTSTART;TZID=America/Fortaleza:20191122T140000
DTEND;TZID=America/Fortaleza:20191123T233000
DTSTAMP:20260424T140128
CREATED:20191122T125134Z
LAST-MODIFIED:20191122T125134Z
UID:24280-1574431200-1574551800@www.geleiatotal.com.br
SUMMARY:Festival de Artes Integradas Piaga
DESCRIPTION:Nos dias 22 (sexta-feira) e 23 (sábado) de novembro\, às 14 horas\, Teresina celebrará o Festival de Artes Integradas Piaga no Espaço Osório Júnior\, Clube dos Diários e Teatro Torquato Neto com exposição de vários seguimentos artísticos. \nPROGRAMAÇÃO DO PIAGA FESTIVAL\nDIA 22 DE NOVEMBRO: \n🎨GALERIA:\n14:00 ABERTURA\n17:00 CAPOEIRA MESTRE BOBBY \n🎬TEATRO TORQUATO NETO\n15:00 EXIBIÇÃO DE CURTAS\n16:00 ESPETÁCULO ImbirAções\n17:40 DOROTHY \n🔅PALCO ANDRÉ RUSSO\n18:00 FLORAIS DE TERRA QUENTE\n18:45 REALNARCOLIRICISTA \n🔅PALCO PIAGA\n19:30 O TRANSTORNO\n20:30 SUNDOGS (CE)\n21:30 FRONTEIRAS BLUES\n22:30 ELL GRIFF\n23:30 OPERA DECAY \nDIA 23 DE NOVEMBRO: \n🎨GALERIA:\n14:00 ABERTURA\n17:30 TRANSMISSÃO DA FINAL DA LIBERTADORES NO TELÃO \n🎬TEATRO TORQUATO NETO\n15:00 O SANTO INQUÉRITO (ELEITO MELHOR ESPETÁCULO PIAUIENSE DE 2019) \n🔅PALCO ANDRÉ RUSSO\n19:20 MODSTOCK\n20:00 CAJÚ PINGA FOGO \n🔅PALCO PIAGA\n19:30 CAMI RABÊLO\n20:30 RADIOFÔNICOS\n21:30 NEANDERTHAIS\n22:30 PHUNK BUDA (PHB)\n23:30 COCHÁ \nA GALERIA FICARÁ ABERTA DAS 14 ÀS 20 HORAS\nTODA A PROGRAMAÇÃO É GRATUITA\nVERIFIQUE A CLASSIFICAÇÃO INDICATIVA.
URL:https://www.geleiatotal.com.br/evento/festival-de-artes-integradas-piaga/
LOCATION:Clube dos Diários\, R. Álvaro Mendes - Centro (Sul)\, Teresina\, PI\, 64000-060\, Brasil
CATEGORIES:Artes Visuais,Audiovisual,Dança,Fotografia,Literatura,Música,Teatro,Teresina
ATTACH;FMTTYPE=image/jpeg:https://www.geleiatotal.com.br/wp-content/uploads/2019/11/WhatsApp-Image-2019-11-07-at-16.25.35.jpeg
END:VEVENT
END:VCALENDAR