BEGIN:VCALENDAR
VERSION:2.0
PRODID:-//Geleia Total - ECPv6.15.20//NONSGML v1.0//EN
CALSCALE:GREGORIAN
METHOD:PUBLISH
X-WR-CALNAME:Geleia Total
X-ORIGINAL-URL:https://www.geleiatotal.com.br
X-WR-CALDESC:Eventos para Geleia Total
REFRESH-INTERVAL;VALUE=DURATION:PT1H
X-Robots-Tag:noindex
X-PUBLISHED-TTL:PT1H
BEGIN:VTIMEZONE
TZID:America/Fortaleza
BEGIN:STANDARD
TZOFFSETFROM:-0300
TZOFFSETTO:-0300
TZNAME:-03
DTSTART:20170101T000000
END:STANDARD
END:VTIMEZONE
BEGIN:VEVENT
DTSTART;TZID=America/Fortaleza:20180831T183000
DTEND;TZID=America/Fortaleza:20180831T183000
DTSTAMP:20260425T113111
CREATED:20180829T132651Z
LAST-MODIFIED:20180829T180115Z
UID:10572-1535740200-1535740200@www.geleiatotal.com.br
SUMMARY:A Bacia de Proust
DESCRIPTION:Pierre realiza um ritual que o faz repensar a sua vida como se fosse uma ficção criada para ele. É um processo intenso\, à medida que ele vai revelando suas angústias\, seus relacionamentos\, medos e a infância frágil de um menino sensível. Os amores se polarizam nas figuras do primeiro beijo e de Maurice\, atual amante\, que o visita constantemente. Suas memórias são ativadas sempre que o ritual se reinicia. Pierre é um um homem\, puramente\, de reminiscências. \nFotografia e Arte Gráfica @robinsonlevy.mkt \nFAIXA ETÁRIA 16 anos
URL:https://www.geleiatotal.com.br/evento/a-bacia-de-proust/
LOCATION:Laboratório de Artes da UESPI\, UESPI - Campus Torquato Neto\, Teresina\, Brasil
CATEGORIES:Teatro,Teresina
ATTACH;FMTTYPE=image/jpeg:https://www.geleiatotal.com.br/wp-content/uploads/2018/08/A-Bacia-de-Proust.jpg
END:VEVENT
END:VCALENDAR