BEGIN:VCALENDAR
VERSION:2.0
PRODID:-//Geleia Total - ECPv6.15.20//NONSGML v1.0//EN
CALSCALE:GREGORIAN
METHOD:PUBLISH
X-WR-CALNAME:Geleia Total
X-ORIGINAL-URL:https://www.geleiatotal.com.br
X-WR-CALDESC:Eventos para Geleia Total
REFRESH-INTERVAL;VALUE=DURATION:PT1H
X-Robots-Tag:noindex
X-PUBLISHED-TTL:PT1H
BEGIN:VTIMEZONE
TZID:America/Fortaleza
BEGIN:STANDARD
TZOFFSETFROM:-0300
TZOFFSETTO:-0300
TZNAME:-03
DTSTART:20170101T000000
END:STANDARD
END:VTIMEZONE
BEGIN:VEVENT
DTSTART;TZID=America/Fortaleza:20180904T180000
DTEND;TZID=America/Fortaleza:20180904T180000
DTSTAMP:20260425T113702
CREATED:20180903T195139Z
LAST-MODIFIED:20180903T195139Z
UID:10900-1536084000-1536084000@www.geleiatotal.com.br
SUMMARY:Programação de aniversário do Theatro 4 de Setembro
DESCRIPTION:Seguindo o quinto dia da programação do aniversário do Theatro 4 de Setembro\, teremos às 18hrs\, na praça Pedro II o espetáculo “Nego Chico e Catirina”. E às 18h40\, acontecerá Literatura Dramática no Café literário  “Genu Moraes” com Ato-Solo de dança de rua e também o lançamento do Livro “Teatro”\, uma coletânea de obras dramáticas do Júlio Romão da Silva.
URL:https://www.geleiatotal.com.br/evento/programacao-de-aniversario-do-theatro-4-de-setembro/
LOCATION:Theatro 4 de Setembro
CATEGORIES:Dança,Literatura,Teatro,Teresina
ATTACH;FMTTYPE=image/jpeg:https://www.geleiatotal.com.br/wp-content/uploads/2018/09/FB_IMG_1535974323216.jpg
END:VEVENT
BEGIN:VEVENT
DTSTART;TZID=America/Fortaleza:20180904T180000
DTEND;TZID=America/Fortaleza:20180904T180000
DTSTAMP:20260425T113702
CREATED:20180904T200826Z
LAST-MODIFIED:20180907T171144Z
UID:10957-1536084000-1536084000@www.geleiatotal.com.br
SUMMARY:Programação de aniversário de 124 anos do Theatro 4 de Setembro
DESCRIPTION:Theatro 4 de Setembro 124 Anos- Ano Chiquinha Lira\, apresenta hoje\, no quinto dia da programação de aniversário:  40 Anos Isis Baião (A Lei dos homens ) às 19h30. Espetáculo de dança “A Luzia” com Luzia Amélia\, às 20hrs no Theatro 4 de SetembroSino mesmo horario no Espaço Cultural Osório Jr terá a banda FULLREGGAE. Não perca esta programação cheia de cultura pra você.
URL:https://www.geleiatotal.com.br/evento/programacao-de-aniversario-de-124-anos-do-theateo-4-de-setembro/
LOCATION:Theatro 4 de Setembro
CATEGORIES:Dança,Espetáculo de Dança,Música,Teatro,Teresina
ATTACH;FMTTYPE=image/jpeg:https://www.geleiatotal.com.br/wp-content/uploads/2018/09/FB_IMG_1536090386777.jpg
END:VEVENT
END:VCALENDAR