BEGIN:VCALENDAR
VERSION:2.0
PRODID:-//Geleia Total - ECPv6.15.20//NONSGML v1.0//EN
CALSCALE:GREGORIAN
METHOD:PUBLISH
X-WR-CALNAME:Geleia Total
X-ORIGINAL-URL:https://www.geleiatotal.com.br
X-WR-CALDESC:Eventos para Geleia Total
REFRESH-INTERVAL;VALUE=DURATION:PT1H
X-Robots-Tag:noindex
X-PUBLISHED-TTL:PT1H
BEGIN:VTIMEZONE
TZID:America/Fortaleza
BEGIN:STANDARD
TZOFFSETFROM:-0300
TZOFFSETTO:-0300
TZNAME:-03
DTSTART:20170101T000000
END:STANDARD
END:VTIMEZONE
BEGIN:VEVENT
DTSTART;TZID=America/Fortaleza:20181009T183000
DTEND;TZID=America/Fortaleza:20181009T183000
DTSTAMP:20260425T101528
CREATED:20181008T184258Z
LAST-MODIFIED:20181008T184258Z
UID:11710-1539109800-1539109800@www.geleiatotal.com.br
SUMMARY:Gabriel "O Pensador"
DESCRIPTION:Dia 09 de outubro\, no Theatro 4 de Setembro\, às 18h30\, o Projeto Seis e Meia trás o cantor Gabriel O Pensador. As vendas dos ingressos está ocorrendo na bilheteria do Theatro\, a partir das 8 hrs da manhã. Maiores informações 988172201
URL:https://www.geleiatotal.com.br/evento/gabriel-o-pensador-2/
LOCATION:Theatro 4 de Setembro
CATEGORIES:Música,Teatro,Teresina
ATTACH;FMTTYPE=image/jpeg:https://www.geleiatotal.com.br/wp-content/uploads/2018/10/42543841_1193932647436645_2197348587673747456_n.jpg
END:VEVENT
END:VCALENDAR