BEGIN:VCALENDAR
VERSION:2.0
PRODID:-//Geleia Total - ECPv6.15.20//NONSGML v1.0//EN
CALSCALE:GREGORIAN
METHOD:PUBLISH
X-ORIGINAL-URL:https://www.geleiatotal.com.br
X-WR-CALDESC:Eventos para Geleia Total
REFRESH-INTERVAL;VALUE=DURATION:PT1H
X-Robots-Tag:noindex
X-PUBLISHED-TTL:PT1H
BEGIN:VTIMEZONE
TZID:America/Fortaleza
BEGIN:STANDARD
TZOFFSETFROM:-0300
TZOFFSETTO:-0300
TZNAME:-03
DTSTART:20170101T000000
END:STANDARD
END:VTIMEZONE
BEGIN:VEVENT
DTSTART;TZID=America/Fortaleza:20181019T170000
DTEND;TZID=America/Fortaleza:20181019T190000
DTSTAMP:20260425T101813
CREATED:20181019T181706Z
LAST-MODIFIED:20181019T182743Z
UID:11958-1539968400-1539975600@www.geleiatotal.com.br
SUMMARY:O espetáculo "Floresta"
DESCRIPTION:O espetáculo “Floresta” terá duas sessões\, a primeira às 17hrs e a segunda as 19hrs\, nos dias 20 e 21 de outubro.\nSobre o espetáculo “Floresta”:\n“Inspirado nas belezas da fauna e flora e na importância da Floresta do Amazonas a Escola Estadual de Dança Lenir Argento\, se engaja em 2018 na criação de uma “FLORESTA”. Uma obra onde dançamos as subjetividades e exaltamos a natureza nas suas mais diferentes formas e cores. Nesta *Floresta* relembramos os povos indígenas e as singularidades que nos constituem como povo e como Brasil. Plantas\, pássaros\, peixes\, guerreiros e criaturas coexistem numa coreografia de diferenças e belezas.\nUm espetáculo que não é apenas uma representação em dança\, se propõe além\, abordando as questões que ainda hoje nos cercam como os direitos dos povos indígenas\, a luta por leis ambientais\, as demarcações de terras\, o desmatamento e a preservação de nossa história.\nNo momento em que discutimos a retirada de direitos em muitas esferas e nos perguntamos “que país” queremos para as futuras gerações\, a Escola Lenir Argento mergulha na mata em busca da memória do que somos: um país exuberante\, diverso e colorido.\nDançamos\, crianças e jovens\, nesta Floresta guiados pela trilha de Villa Lobos em direção a vida! Na celebração da vida em toda sua diversidade! • Direção e concepção: Datan Izaká • Criação coreográfica: Datan Izaká \, Corpo Docente da Escola. • Texto e Material Visual: Layane Holanda • Realização: Escola Estadual de Dança Lenir Argento • Apoio: Secretaria de Estado da Cultura – SECULT | Governo do Estado do Piauí.”
URL:https://www.geleiatotal.com.br/evento/o-espetaculo-floresta/
LOCATION:Theatro 4 de Setembro
CATEGORIES:Teatro,Teresina
ATTACH;FMTTYPE=image/jpeg:https://www.geleiatotal.com.br/wp-content/uploads/2018/10/20181019_142136.jpg
END:VEVENT
END:VCALENDAR