BEGIN:VCALENDAR
VERSION:2.0
PRODID:-//Geleia Total - ECPv6.15.20//NONSGML v1.0//EN
CALSCALE:GREGORIAN
METHOD:PUBLISH
X-ORIGINAL-URL:https://www.geleiatotal.com.br
X-WR-CALDESC:Eventos para Geleia Total
REFRESH-INTERVAL;VALUE=DURATION:PT1H
X-Robots-Tag:noindex
X-PUBLISHED-TTL:PT1H
BEGIN:VTIMEZONE
TZID:America/Fortaleza
BEGIN:STANDARD
TZOFFSETFROM:-0300
TZOFFSETTO:-0300
TZNAME:-03
DTSTART:20170101T000000
END:STANDARD
END:VTIMEZONE
BEGIN:VEVENT
DTSTART;TZID=America/Fortaleza:20181025T150000
DTEND;TZID=America/Fortaleza:20181025T210000
DTSTAMP:20260425T101813
CREATED:20181025T003211Z
LAST-MODIFIED:20181025T003751Z
UID:12127-1540479600-1540501200@www.geleiatotal.com.br
SUMMARY:Sarau Litero-Musical "Arte em Primazia"
DESCRIPTION:Amanhã\, 25 de outubro a Escola Técnica Estadual de Teatro Gomes Campos realiza o primeiro Sarau Litero-Musical “Arte em Primazia”. O evento cultural será das 15hrs às 21hrs\, esse espaço será realizado para que as pessoas possam  se encontrar\, expressar e/ou manifestar artisticamente. O Sarau Litero-Musical “Arte em Primazia” é uma realização do Núcleo de Estudos Dramático – NED\, sob coordenação geral de Giselle Tôrres. Ocorrerá  apresentações de alunos e convidados\, são eles:  Reação do Gueto\, Preto Kedé\, MC AC\, Joanne e Jaísa\, Luíza Miranda\, Coral da Gomes Campos e Paulo Sousa. O evento também contará com praça de alimentação\, bazar beneficente\, exposição\, intervenção artística e multimídia.
URL:https://www.geleiatotal.com.br/evento/sarau-litero-musical-arte-em-primazia/
LOCATION:Escola de Teatro Gomes Campos\, Rua Jonatas Batista\, 841\, Teresina\, Piauí\, 64000-400
CATEGORIES:Teatro,Teresina
ATTACH;FMTTYPE=image/jpeg:https://www.geleiatotal.com.br/wp-content/uploads/2018/10/IMG-20181024-WA0072.jpg
END:VEVENT
BEGIN:VEVENT
DTSTART;TZID=America/Fortaleza:20181025T180000
DTEND;TZID=America/Fortaleza:20181025T180000
DTSTAMP:20260425T101813
CREATED:20181022T165024Z
LAST-MODIFIED:20181022T165024Z
UID:12022-1540490400-1540490400@www.geleiatotal.com.br
SUMMARY:O espetáculo  "A Rosa"
DESCRIPTION:Baseado em fatos reais\, o espetáculo  “A Rosa” estará na próxima quinta(25)\, às 18h na escola de Teatro Gomes Campos que fica na Rua Jonatas Batista\, 841 – Centro (Norte).  Com direção de Samuel Alvís e iluminação de Pablo Silva.
URL:https://www.geleiatotal.com.br/evento/o-espetaculo-a-rosa/
LOCATION:Escola de Teatro Gomes Campos\, Rua Jonatas Batista\, 841\, Teresina\, Piauí\, 64000-400
CATEGORIES:Teatro,Teresina
ATTACH;FMTTYPE=image/jpeg:https://www.geleiatotal.com.br/wp-content/uploads/2018/10/WhatsApp-Image-2018-10-11-at-8.36.56-PM.jpeg
END:VEVENT
END:VCALENDAR