BEGIN:VCALENDAR
VERSION:2.0
PRODID:-//Geleia Total - ECPv6.15.20//NONSGML v1.0//EN
CALSCALE:GREGORIAN
METHOD:PUBLISH
X-ORIGINAL-URL:https://www.geleiatotal.com.br
X-WR-CALDESC:Eventos para Geleia Total
REFRESH-INTERVAL;VALUE=DURATION:PT1H
X-Robots-Tag:noindex
X-PUBLISHED-TTL:PT1H
BEGIN:VTIMEZONE
TZID:America/Fortaleza
BEGIN:STANDARD
TZOFFSETFROM:-0300
TZOFFSETTO:-0300
TZNAME:-03
DTSTART:20170101T000000
END:STANDARD
END:VTIMEZONE
BEGIN:VEVENT
DTSTART;TZID=America/Fortaleza:20181108T183000
DTEND;TZID=America/Fortaleza:20181108T183000
DTSTAMP:20260425T084903
CREATED:20181022T145114Z
LAST-MODIFIED:20181022T145114Z
UID:12001-1541701800-1541701800@www.geleiatotal.com.br
SUMMARY:O Soldado e a Florista
DESCRIPTION:“O Soldado e a Florista” é o terceiro espetáculo infantil da Companhia Humanista Grupo de Teatro\, será no Teatro do Boi\, a partir das 18h30\, no dia 8 de novembro. Não fique fora dessa!!!
URL:https://www.geleiatotal.com.br/evento/o-soldado-e-a-florista/
LOCATION:Teatro do Boi\, Rua Rui Barbosa\, 339 - Matadouro\, Teresina\, Piauí\, 64004-285\, Brasil
CATEGORIES:Teatro,Teresina
ATTACH;FMTTYPE=image/jpeg:https://www.geleiatotal.com.br/wp-content/uploads/2018/10/44389126_1866202033493915_371570892225904640_n.jpg
END:VEVENT
END:VCALENDAR