BEGIN:VCALENDAR
VERSION:2.0
PRODID:-//Geleia Total - ECPv6.15.20//NONSGML v1.0//EN
CALSCALE:GREGORIAN
METHOD:PUBLISH
X-WR-CALNAME:Geleia Total
X-ORIGINAL-URL:https://www.geleiatotal.com.br
X-WR-CALDESC:Eventos para Geleia Total
REFRESH-INTERVAL;VALUE=DURATION:PT1H
X-Robots-Tag:noindex
X-PUBLISHED-TTL:PT1H
BEGIN:VTIMEZONE
TZID:America/Fortaleza
BEGIN:STANDARD
TZOFFSETFROM:-0300
TZOFFSETTO:-0300
TZNAME:-03
DTSTART:20170101T000000
END:STANDARD
END:VTIMEZONE
BEGIN:VEVENT
DTSTART;TZID=America/Fortaleza:20181130T190000
DTEND;TZID=America/Fortaleza:20181130T200000
DTSTAMP:20260425T072111
CREATED:20181126T151627Z
LAST-MODIFIED:20181126T151627Z
UID:13623-1543604400-1543608000@www.geleiatotal.com.br
SUMMARY:Espetáculo: Poliamor
DESCRIPTION:Espetáculo teatral dirigido por Herberth Costa\, autor e diretor de Faces\, Quarto de Brinquedos\, Mocreias\, Mistério da Mata\, A arca do Zé\, entre outras. “Poliamor” apresenta as relações humanas em diferentes ângulos\, cores e formas. \nDireção:  Herberth Costa\nDireção coreográfica: Joelma Bezerra\nParticipação especial: Stella Simpson
URL:https://www.geleiatotal.com.br/evento/espetaculo-poliamor-2/
LOCATION:Cine Teatro UFPI\, Av. Universitária - Ininga\, Teresina - PI\, 64049-550\, Teresina\, Piauí\, 64049-550\, Brasil
CATEGORIES:Teatro
ATTACH;FMTTYPE=image/jpeg:https://www.geleiatotal.com.br/wp-content/uploads/2018/11/WhatsApp-Image-2018-11-26-at-12.14.50.jpeg
END:VEVENT
END:VCALENDAR