BEGIN:VCALENDAR
VERSION:2.0
PRODID:-//Geleia Total - ECPv6.15.20//NONSGML v1.0//EN
CALSCALE:GREGORIAN
METHOD:PUBLISH
X-ORIGINAL-URL:https://www.geleiatotal.com.br
X-WR-CALDESC:Eventos para Geleia Total
REFRESH-INTERVAL;VALUE=DURATION:PT1H
X-Robots-Tag:noindex
X-PUBLISHED-TTL:PT1H
BEGIN:VTIMEZONE
TZID:America/Fortaleza
BEGIN:STANDARD
TZOFFSETFROM:-0300
TZOFFSETTO:-0300
TZNAME:-03
DTSTART:20170101T000000
END:STANDARD
END:VTIMEZONE
BEGIN:VEVENT
DTSTART;TZID=America/Fortaleza:20181218T090000
DTEND;TZID=America/Fortaleza:20181220T120000
DTSTAMP:20260425T072446
CREATED:20181211T204043Z
LAST-MODIFIED:20181211T204043Z
UID:14049-1545123600-1545307200@www.geleiatotal.com.br
SUMMARY:Workshop (In)Comum "Do Conto à Cena: O trabalho do ator/atriz no teatro contemporâneo"
DESCRIPTION:Nos dias 18 à 20 dezembro\, na Casa da Cultura\, das 9h às 12 horas\, terá um Workshop (In)Comum “Do Conto à Cena: O trabalho do ator/atriz no teatro contemporâneo” do Coletivo Teatro (In)comum (RJ).
URL:https://www.geleiatotal.com.br/evento/workshop-incomum-do-conto-a-cena-o-trabalho-do-ator-atriz-no-teatro-contemporaneo/
LOCATION:Casa da Cultura\, Centro-Sul\, Teresina\, PIAUÍ
CATEGORIES:Cursos, palestras e afins,Teatro,Teresina
END:VEVENT
END:VCALENDAR