BEGIN:VCALENDAR
VERSION:2.0
PRODID:-//Geleia Total - ECPv6.15.20//NONSGML v1.0//EN
CALSCALE:GREGORIAN
METHOD:PUBLISH
X-ORIGINAL-URL:https://www.geleiatotal.com.br
X-WR-CALDESC:Eventos para Geleia Total
REFRESH-INTERVAL;VALUE=DURATION:PT1H
X-Robots-Tag:noindex
X-PUBLISHED-TTL:PT1H
BEGIN:VTIMEZONE
TZID:America/Fortaleza
BEGIN:STANDARD
TZOFFSETFROM:-0300
TZOFFSETTO:-0300
TZNAME:-03
DTSTART:20180101T000000
END:STANDARD
END:VTIMEZONE
BEGIN:VEVENT
DTSTART;TZID=America/Fortaleza:20190504T200000
DTEND;TZID=America/Fortaleza:20190504T200000
DTSTAMP:20260425T001051
CREATED:20190504T205538Z
LAST-MODIFIED:20190504T205817Z
UID:17130-1557000000-1557000000@www.geleiatotal.com.br
SUMMARY:Show de Humor Amauri Jucá
DESCRIPTION:Hoje às 20 hrs\, no Teatro 4 de Setembro terá  Show de Humor Amauri Jucá. Não fique de fora essa e caia na gargalhada. A entrada é 1kg de alimento.
URL:https://www.geleiatotal.com.br/evento/show-de-humor-amauri-juca/
LOCATION:Theatro 4 de Setembro
CATEGORIES:Teatro
ATTACH;FMTTYPE=image/jpeg:https://www.geleiatotal.com.br/wp-content/uploads/2019/05/FB_IMG_1557002584917.jpg
END:VEVENT
END:VCALENDAR