BEGIN:VCALENDAR
VERSION:2.0
PRODID:-//Geleia Total - ECPv6.15.20//NONSGML v1.0//EN
CALSCALE:GREGORIAN
METHOD:PUBLISH
X-ORIGINAL-URL:https://www.geleiatotal.com.br
X-WR-CALDESC:Eventos para Geleia Total
REFRESH-INTERVAL;VALUE=DURATION:PT1H
X-Robots-Tag:noindex
X-PUBLISHED-TTL:PT1H
BEGIN:VTIMEZONE
TZID:America/Fortaleza
BEGIN:STANDARD
TZOFFSETFROM:-0300
TZOFFSETTO:-0300
TZNAME:-03
DTSTART:20180101T000000
END:STANDARD
END:VTIMEZONE
BEGIN:VEVENT
DTSTART;TZID=America/Fortaleza:20190531T190000
DTEND;TZID=America/Fortaleza:20190531T203000
DTSTAMP:20260424T224926
CREATED:20190521T024215Z
LAST-MODIFIED:20190522T032621Z
UID:17638-1559329200-1559334600@www.geleiatotal.com.br
SUMMARY:Peça "Uma Cama Quebrada" estreia 31 de maio no Teatro do Boi
DESCRIPTION:A peça teatral “Uma Cama Quebrada” tem como tema central o poliamor. A história de amor entre três homens desperta vários questionamentos sobre o amor\, sobre as formas de configurações de relacionamentos e alguns tabus sociais. “Uma Cama Quebrada” coloca em cena as tensões e conflitos fomentados pelas expectativas dos personagens em relação ao amor. A obra usa os conflitos\, erotismo e reflexão de forma poética. A peça teatral estreará dia 31 de maio\, às 19h\, no Teatro do Boi. \nO espetáculo inspirado na obra de Roberto Muniz Dias\, que carrega o mesmo nome\, foi adaptado e dirigido por Alisson Carvalho. O grupo levou para os palcos os conflitos de um “trisal” (casal constituído por três pessoas) de homens atravessados pelos conflitos advindos do amor\, ciúmes e solidão. A peça é uma forma de repensar sobre as possibilidades das formas de se relacionar\, além de provocar o público\, de propor formas diferentes de se pensar o amor e refletir sobre a monogamia como única organização de se relacionar. “O momento sócio-político no qual estamos inseridos\, pede com urgência a discussão de paradigmas sociais e afetivos” diz Alisson Carvalho. \n \nA sonoplastia do espetáculo foi construída usando tanto um repertório autoral piauiense\, contendo músicas de artistas renomados como Benício Bem\, Lívio Nascimento\, Pedro Ben\, Anno Zero e Vavá Ribeiro\, assim como composições percussivas elaboradas pelo próprio grupo. A Cia traz para cena a sua pesquisa que tem como base a utilização muito semelhante à dança\, fazendo da desconstrução corporal um meio para se expressar e representar. “A obra é desafiadora\, pois toca em temas delicados e que permite um debate enriquecedor sobre o amor e os relacionamentos”\, frisa Eduardo Ciro\, um dos atores do elenco. Segundo Johnny Ricky\, também ator\, “a peça tem uma natureza contestadora e inquietante\, além das experiências e lições cênicas aprendidas. Esse trabalho em especial joga os holofotes em um tema pouco debatido justamente em tempos em que a ‘cultura de opinião’ está mais forte.” \nA Épica Cia de Criação convida o público para assistir ao espetáculo e se despir dos preconceitos\, prejulgamentos\, além de se permitir e tentar enxergar o amor por outra perspectiva. A obra é uma oportunidade para rever as expectativas que são colocadas sobre o tema\, desconstruindo ideias de relacionamentos padronizados e demonstrando que tudo está sujeito a transformações\, tudo pode ser ressignificado. \n  \nFicha Técnica  \nElenco: Bosco Ferreira\, Eduardo Ciro e Johnny Ricky \nDireção: Alisson Carvalho \nDireção Coreográfica: Raks Leite \nSonoplastia: Épica Cia de Criação \nTrilha sonora: Benício Bem\, Lívio Nascimento\, Pedro Ben\, Anno Zero e Vavá Ribeiro. \nIluminação: Épica Cia de Criação \nTexto: Roberto Muniz Dias \nFotografia: Ana Cândida Carvalho \nProdução: Geleia Total \n. \n? Peça de Teatro “Uma Cama Quebrada”\, da Épica Cia de Criação\n? Direção: Alisson Carvalho\n.\n? Por que devo ir? Para refletir sobre as nuances e formas desse sentimento tão complexo chamado amor.\n.\n⏰ Quando vai ser? 31 de maio (sexta)\, às 19h\n? Onde vai ser? Teatro do Boi – R. Rui Barbosa\, 339 – Matadouro\, Teresina\n.\n?‍♀ Como compro o ingresso antecipado? R$ 20 (inteira) / R$ 10 (meia)\n1. Na Banca do Joel – Praça Pedro II\n2. Na Toccata – Rua Angélica\, 920 – https://goo.gl/maps/XbA9xy4iJjJ2\n3. Pelo sympla: bit.ly/umacamaquebrada31maio\n4. Por transferência bancária. Combinar pelo whatsapp 86 99802-6952 (bit.ly/WhatsAppGeleiaTotal)\n.\n? Vai ter ingresso pra vender na hora? Mas com certezaaaaa\n.\n? Quem está produzindo essa peça intensa?\nSimplesmente a Geleia Total – linktr.ee/geleiatotal\n.\n? Quem está acreditando e apoiando essa peça?\nCamarão do Elias\, sempre arrasando nos apoios culturais!\n.\n? Se tiver dúvidas falo com quem?\nNoé Filho – 86 99802.6952 (bit.ly/WhatsAppGeleiaTotal)
URL:https://www.geleiatotal.com.br/evento/peca-uma-cama-quebrada-estreia-31-de-maio-no-teatro-do-boi/
LOCATION:Teatro do Boi\, Rua Rui Barbosa\, 339 - Matadouro\, Teresina\, Piauí\, 64004-285\, Brasil
CATEGORIES:Teatro,Teresina
ATTACH;FMTTYPE=image/png:https://www.geleiatotal.com.br/wp-content/uploads/2019/05/Uma-Cama-Quebrada.png
ORGANIZER;CN="Geleia Total":MAILTO:geleiatotal@gmail.com
END:VEVENT
END:VCALENDAR