BEGIN:VCALENDAR
VERSION:2.0
PRODID:-//Geleia Total - ECPv6.15.20//NONSGML v1.0//EN
CALSCALE:GREGORIAN
METHOD:PUBLISH
X-WR-CALNAME:Geleia Total
X-ORIGINAL-URL:https://www.geleiatotal.com.br
X-WR-CALDESC:Eventos para Geleia Total
REFRESH-INTERVAL;VALUE=DURATION:PT1H
X-Robots-Tag:noindex
X-PUBLISHED-TTL:PT1H
BEGIN:VTIMEZONE
TZID:America/Fortaleza
BEGIN:STANDARD
TZOFFSETFROM:-0300
TZOFFSETTO:-0300
TZNAME:-03
DTSTART:20180101T000000
END:STANDARD
END:VTIMEZONE
BEGIN:VEVENT
DTSTART;TZID=America/Fortaleza:20190609T180000
DTEND;TZID=America/Fortaleza:20190609T180000
DTSTAMP:20260424T224749
CREATED:20190609T154805Z
LAST-MODIFIED:20190609T154805Z
UID:18125-1560103200-1560103200@www.geleiatotal.com.br
SUMMARY:Orquestra Sinfônica de Teresina
DESCRIPTION:Hoje\, a partir das 18hrs\, no Teatro João Paulo II\, tem Projeto Sifonia nos Bairros\, com a Orquestra Sinfônica de Teresina. Não fique de fora dessa!!!
URL:https://www.geleiatotal.com.br/evento/orquestra-sinfonica-de-teresina/
LOCATION:Teatro João Paulo II\, AV\, Joaquim Nelson\, Teresina\, Piauí
CATEGORIES:Música,Teatro,Teresina
ATTACH;FMTTYPE=image/jpeg:https://www.geleiatotal.com.br/wp-content/uploads/2019/06/IMG-20190609-WA0028.jpg
END:VEVENT
END:VCALENDAR