BEGIN:VCALENDAR
VERSION:2.0
PRODID:-//Geleia Total - ECPv6.15.20//NONSGML v1.0//EN
CALSCALE:GREGORIAN
METHOD:PUBLISH
X-ORIGINAL-URL:https://www.geleiatotal.com.br
X-WR-CALDESC:Eventos para Geleia Total
REFRESH-INTERVAL;VALUE=DURATION:PT1H
X-Robots-Tag:noindex
X-PUBLISHED-TTL:PT1H
BEGIN:VTIMEZONE
TZID:America/Fortaleza
BEGIN:STANDARD
TZOFFSETFROM:-0300
TZOFFSETTO:-0300
TZNAME:-03
DTSTART:20180101T000000
END:STANDARD
END:VTIMEZONE
BEGIN:VEVENT
DTSTART;TZID=America/Fortaleza:20190717T193000
DTEND;TZID=America/Fortaleza:20190717T193000
DTSTAMP:20260424T211136
CREATED:20190717T180542Z
LAST-MODIFIED:20190717T184018Z
UID:19178-1563391800-1563391800@www.geleiatotal.com.br
SUMMARY:Palco Giratório: "Chica\, Fulô de Mandacaru"
DESCRIPTION:Neste mês de julho\, o Palco Giratório circula no Piauí com os espetáculos “Chica\, Fulô de Mandacaru” e “A mulher do fim do mundo\, da Cia. Casa Circo (AP)\, com apresentações em Floriano\, Teresina e Parnaíba. E em Teresina o espectáculo será ” Chica\, Fulô de Mandacaru”. A entrada será 1kg de alimento não perecível. Não fique de fora dessa!!!
URL:https://www.geleiatotal.com.br/evento/palco-giratorio-a-mulher-do-fim-do-mundo/
LOCATION:Theatro 4 de Setembro
CATEGORIES:Espetáculo de Dança,Teatro
ATTACH;FMTTYPE=image/jpeg:https://www.geleiatotal.com.br/wp-content/uploads/2019/07/20190717_153947.jpg
END:VEVENT
END:VCALENDAR